Package: puma Version: 3.50.0 Command: rm -rf puma.buildbin-libdir && mkdir puma.buildbin-libdir && E:\biocbuild\bbs-3.21-bioc\R\bin\R.exe CMD INSTALL --build --library=puma.buildbin-libdir puma_3.50.0.tar.gz StartedAt: 2025-08-15 09:59:54 -0400 (Fri, 15 Aug 2025) EndedAt: 2025-08-15 10:01:19 -0400 (Fri, 15 Aug 2025) EllapsedTime: 85.3 seconds RetCode: 0 Status: OK PackageFile: puma_3.50.0.zip PackageFileSize: 3.907 MiB