Package: puma Version: 3.50.0 Command: /home/biocbuild/bbs-3.21-bioc/R/bin/R CMD check --install=check:puma.install-out.txt --library=/home/biocbuild/bbs-3.21-bioc/R/site-library --timings puma_3.50.0.tar.gz StartedAt: 2025-10-02 02:23:34 -0400 (Thu, 02 Oct 2025) EndedAt: 2025-10-02 02:29:34 -0400 (Thu, 02 Oct 2025) EllapsedTime: 360.5 seconds RetCode: 0 Status: OK CheckDir: puma.Rcheck Warnings: 0