Package: puma Version: 3.50.0 Command: /Library/Frameworks/R.framework/Resources/bin/R CMD INSTALL puma StartedAt: 2025-10-13 15:37:30 -0400 (Mon, 13 Oct 2025) EndedAt: 2025-10-13 15:39:03 -0400 (Mon, 13 Oct 2025) EllapsedTime: 92.8 seconds RetCode: 0 Status: OK