Package: puma Version: 3.50.0 Command: /Library/Frameworks/R.framework/Resources/bin/R CMD check --install=check:puma.install-out.txt --library=/Library/Frameworks/R.framework/Resources/library --no-vignettes --timings puma_3.50.0.tar.gz StartedAt: 2025-10-14 08:35:28 -0400 (Tue, 14 Oct 2025) EndedAt: 2025-10-14 08:46:37 -0400 (Tue, 14 Oct 2025) EllapsedTime: 669.3 seconds RetCode: 0 Status: WARNINGS CheckDir: puma.Rcheck Warnings: 1