Package: puma Version: 3.50.0 Command: /Library/Frameworks/R.framework/Resources/bin/R CMD build --keep-empty-dirs --no-resave-data puma StartedAt: 2025-10-13 21:43:33 -0400 (Mon, 13 Oct 2025) EndedAt: 2025-10-13 21:46:52 -0400 (Mon, 13 Oct 2025) EllapsedTime: 198.5 seconds RetCode: 0 Status: OK PackageFile: puma_3.50.0.tar.gz PackageFileSize: 3.404 MiB