Package: puma Version: 3.50.0 Command: /Library/Frameworks/R.framework/Resources/bin/R CMD build --keep-empty-dirs --no-resave-data puma StartedAt: 2025-04-21 17:20:03 -0400 (Mon, 21 Apr 2025) EndedAt: 2025-04-21 17:20:40 -0400 (Mon, 21 Apr 2025) EllapsedTime: 37.4 seconds RetCode: 0 Status: OK PackageFile: puma_3.50.0.tar.gz PackageFileSize: 3.406 MiB