Package: puma Version: 3.50.0 Command: rm -rf puma.buildbin-libdir && mkdir puma.buildbin-libdir && /Users/biocbuild/BBS/utils/build-universal.sh puma_3.50.0.tar.gz /Library/Frameworks/R.framework/Resources/bin/R puma.buildbin-libdir StartedAt: 2025-10-04 19:22:54 -0400 (Sat, 04 Oct 2025) EndedAt: 2025-10-04 19:23:48 -0400 (Sat, 04 Oct 2025) EllapsedTime: 54.1 seconds RetCode: 0 Status: OK PackageFile: puma_3.50.0.tgz PackageFileSize: 4.076 MiB