Package: ptairMS Version: 1.16.0 Command: chmod a+r ptairMS -R && E:\biocbuild\bbs-3.21-bioc\R\bin\R.exe CMD build --keep-empty-dirs --no-resave-data ptairMS StartedAt: 2025-08-14 21:27:51 -0400 (Thu, 14 Aug 2025) EndedAt: 2025-08-14 21:31:59 -0400 (Thu, 14 Aug 2025) EllapsedTime: 248.5 seconds RetCode: 0 Status: OK PackageFile: ptairMS_1.16.0.tar.gz PackageFileSize: 1.931 MiB