Package: ptairMS Version: 1.16.0 Command: rm -rf ptairMS.buildbin-libdir && mkdir ptairMS.buildbin-libdir && E:\biocbuild\bbs-3.21-bioc\R\bin\R.exe CMD INSTALL --build --library=ptairMS.buildbin-libdir ptairMS_1.16.0.tar.gz StartedAt: 2025-08-15 09:59:52 -0400 (Fri, 15 Aug 2025) EndedAt: 2025-08-15 10:01:04 -0400 (Fri, 15 Aug 2025) EllapsedTime: 71.4 seconds RetCode: 0 Status: OK PackageFile: ptairMS_1.16.0.zip PackageFileSize: 2.321 MiB