Package: ptairMS Version: 1.16.0 Command: /home/biocbuild/bbs-3.21-bioc/R/bin/R CMD build --keep-empty-dirs --no-resave-data ptairMS StartedAt: 2025-10-12 19:18:12 -0400 (Sun, 12 Oct 2025) EndedAt: 2025-10-12 19:20:59 -0400 (Sun, 12 Oct 2025) EllapsedTime: 167.2 seconds RetCode: 0 Status: OK PackageFile: ptairMS_1.16.0.tar.gz PackageFileSize: 3.409 MiB