Package: ptairMS Version: 1.16.0 Command: /Library/Frameworks/R.framework/Resources/bin/R CMD build --keep-empty-dirs --no-resave-data ptairMS StartedAt: 2025-10-06 21:41:24 -0400 (Mon, 06 Oct 2025) EndedAt: 2025-10-06 21:47:54 -0400 (Mon, 06 Oct 2025) EllapsedTime: 390.0 seconds RetCode: 0 Status: OK PackageFile: ptairMS_1.16.0.tar.gz PackageFileSize: 3.358 MiB