Package: ptairMS Version: 1.16.0 Command: rm -rf ptairMS.buildbin-libdir && mkdir ptairMS.buildbin-libdir && /Users/biocbuild/BBS/utils/build-universal.sh ptairMS_1.16.0.tar.gz /Library/Frameworks/R.framework/Resources/bin/R ptairMS.buildbin-libdir StartedAt: 2025-10-07 14:11:19 -0400 (Tue, 07 Oct 2025) EndedAt: 2025-10-07 14:12:39 -0400 (Tue, 07 Oct 2025) EllapsedTime: 79.5 seconds RetCode: 0 Status: OK PackageFile: ptairMS_1.16.0.tgz PackageFileSize: 3.435 MiB