Package: ptairMS Version: 1.16.0 Command: /Library/Frameworks/R.framework/Resources/bin/R CMD build --keep-empty-dirs --no-resave-data ptairMS StartedAt: 2025-04-21 17:19:53 -0400 (Mon, 21 Apr 2025) EndedAt: 2025-04-21 17:21:07 -0400 (Mon, 21 Apr 2025) EllapsedTime: 73.9 seconds RetCode: 0 Status: OK PackageFile: ptairMS_1.16.0.tar.gz PackageFileSize: 3.356 MiB