Package: ptairMS Version: 1.16.0 Command: /Library/Frameworks/R.framework/Resources/bin/R CMD INSTALL ptairMS StartedAt: 2025-10-02 17:05:39 -0400 (Thu, 02 Oct 2025) EndedAt: 2025-10-02 17:06:01 -0400 (Thu, 02 Oct 2025) EllapsedTime: 22.4 seconds RetCode: 0 Status: OK