Package: ptairMS Version: 1.16.0 Command: rm -rf ptairMS.buildbin-libdir && mkdir ptairMS.buildbin-libdir && /Users/biocbuild/BBS/utils/build-universal.sh ptairMS_1.16.0.tar.gz /Library/Frameworks/R.framework/Resources/bin/R ptairMS.buildbin-libdir StartedAt: 2025-10-04 19:22:45 -0400 (Sat, 04 Oct 2025) EndedAt: 2025-10-04 19:23:12 -0400 (Sat, 04 Oct 2025) EllapsedTime: 27.0 seconds RetCode: 0 Status: OK PackageFile: ptairMS_1.16.0.tgz PackageFileSize: 3.432 MiB