Package: psichomics Version: 1.34.0 Command: chmod a+r psichomics -R && E:\biocbuild\bbs-3.21-bioc\R\bin\R.exe CMD build --keep-empty-dirs --no-resave-data psichomics StartedAt: 2025-08-14 21:27:26 -0400 (Thu, 14 Aug 2025) EndedAt: 2025-08-14 21:31:55 -0400 (Thu, 14 Aug 2025) EllapsedTime: 269.5 seconds RetCode: 0 Status: OK PackageFile: psichomics_1.34.0.tar.gz PackageFileSize: 6.042 MiB