Package: psichomics Version: 1.34.0 Command: /home/biocbuild/bbs-3.21-bioc/R/bin/R CMD INSTALL psichomics StartedAt: 2025-10-15 15:57:37 -0400 (Wed, 15 Oct 2025) EndedAt: 2025-10-15 15:58:54 -0400 (Wed, 15 Oct 2025) EllapsedTime: 76.7 seconds RetCode: 0 Status: OK