Package: psichomics Version: 1.34.0 Command: /Library/Frameworks/R.framework/Resources/bin/R CMD check --install=check:psichomics.install-out.txt --library=/Library/Frameworks/R.framework/Resources/library --no-vignettes --timings psichomics_1.34.0.tar.gz StartedAt: 2025-04-21 22:47:15 -0400 (Mon, 21 Apr 2025) EndedAt: 2025-04-21 22:55:57 -0400 (Mon, 21 Apr 2025) EllapsedTime: 522.4 seconds RetCode: 0 Status: OK CheckDir: psichomics.Rcheck Warnings: 0