Package: psichomics Version: 1.34.0 Command: /home/biocbuild/R/R/bin/R CMD check --install=check:psichomics.install-out.txt --library=/home/biocbuild/R/R/site-library --no-vignettes --timings psichomics_1.34.0.tar.gz StartedAt: 2025-10-14 12:49:45 -0000 (Tue, 14 Oct 2025) EndedAt: 2025-10-14 13:00:59 -0000 (Tue, 14 Oct 2025) EllapsedTime: 673.7 seconds RetCode: 0 Status: OK CheckDir: psichomics.Rcheck Warnings: 0