Package: psichomics Version: 1.34.0 Command: /Library/Frameworks/R.framework/Resources/bin/R CMD INSTALL psichomics StartedAt: 2025-10-13 18:27:11 -0400 (Mon, 13 Oct 2025) EndedAt: 2025-10-13 18:28:39 -0400 (Mon, 13 Oct 2025) EllapsedTime: 88.0 seconds RetCode: 0 Status: OK