Package: psichomics Version: 1.34.0 Command: /Library/Frameworks/R.framework/Resources/bin/R CMD check --install=check:psichomics.install-out.txt --library=/Library/Frameworks/R.framework/Resources/library --no-vignettes --timings psichomics_1.34.0.tar.gz StartedAt: 2025-10-15 08:22:40 -0400 (Wed, 15 Oct 2025) EndedAt: 2025-10-15 08:32:18 -0400 (Wed, 15 Oct 2025) EllapsedTime: 578.3 seconds RetCode: 0 Status: OK CheckDir: psichomics.Rcheck Warnings: 0