Package: psichomics Version: 1.34.0 Maintainer: Nuno Saraiva-Agostinho MaintainerEmail: nunodanielagostinho at gmail.com git_url: https://git.bioconductor.org/packages/psichomics git_branch: RELEASE_3_21 git_last_commit: 1e06f30 git_last_commit_date: 2025-04-15 11:06:18 -0400 (Tue, 15 Apr 2025)