Package: proteinProfiles Version: 1.48.0 Command: /Library/Frameworks/R.framework/Resources/bin/R CMD build --keep-empty-dirs --no-resave-data proteinProfiles StartedAt: 2025-10-14 06:57:57 -0400 (Tue, 14 Oct 2025) EndedAt: 2025-10-14 06:58:15 -0400 (Tue, 14 Oct 2025) EllapsedTime: 18.0 seconds RetCode: 0 Status: OK PackageFile: proteinProfiles_1.48.0.tar.gz PackageFileSize: 384.2 KiB