Package: progeny Version: 1.30.0 Command: /Library/Frameworks/R.framework/Resources/bin/R CMD check --install=check:progeny.install-out.txt --library=/Library/Frameworks/R.framework/Resources/library --no-vignettes --timings progeny_1.30.0.tar.gz StartedAt: 2025-04-21 22:45:30 -0400 (Mon, 21 Apr 2025) EndedAt: 2025-04-21 22:47:45 -0400 (Mon, 21 Apr 2025) EllapsedTime: 134.4 seconds RetCode: 0 Status: OK CheckDir: progeny.Rcheck Warnings: 0