Package: profileScoreDist Version: 1.36.0 Command: rm -rf profileScoreDist.buildbin-libdir && mkdir profileScoreDist.buildbin-libdir && /Users/biocbuild/BBS/utils/build-universal.sh profileScoreDist_1.36.0.tar.gz /Library/Frameworks/R.framework/Resources/bin/R profileScoreDist.buildbin-libdir StartedAt: 2025-10-14 14:25:24 -0400 (Tue, 14 Oct 2025) EndedAt: 2025-10-14 14:25:56 -0400 (Tue, 14 Oct 2025) EllapsedTime: 32.4 seconds RetCode: 0 Status: OK PackageFile: profileScoreDist_1.36.0.tgz PackageFileSize: 355.9 KiB