Package: proDA Version: 1.22.1 Command: /home/biocbuild/R/R/bin/R CMD INSTALL proDA StartedAt: 2025-10-13 20:50:34 -0000 (Mon, 13 Oct 2025) EndedAt: 2025-10-13 20:51:06 -0000 (Mon, 13 Oct 2025) EllapsedTime: 32.4 seconds RetCode: 0 Status: OK