Package: proDA Version: 1.22.1 Command: /home/biocbuild/R/R/bin/R CMD check --install=check:proDA.install-out.txt --library=/home/biocbuild/R/R/site-library --no-vignettes --timings proDA_1.22.1.tar.gz StartedAt: 2025-10-14 12:44:57 -0000 (Tue, 14 Oct 2025) EndedAt: 2025-10-14 12:51:08 -0000 (Tue, 14 Oct 2025) EllapsedTime: 371.3 seconds RetCode: 0 Status: OK CheckDir: proDA.Rcheck Warnings: 0