Package: proBAMr Version: 1.42.0 Command: rm -rf proBAMr.buildbin-libdir && mkdir proBAMr.buildbin-libdir && /Users/biocbuild/BBS/utils/build-universal.sh proBAMr_1.42.0.tar.gz /Library/Frameworks/R.framework/Resources/bin/R proBAMr.buildbin-libdir StartedAt: 2025-10-15 19:51:06 -0400 (Wed, 15 Oct 2025) EndedAt: 2025-10-15 19:51:55 -0400 (Wed, 15 Oct 2025) EllapsedTime: 48.2 seconds RetCode: 0 Status: OK PackageFile: proBAMr_1.42.0.tgz PackageFileSize: 525.2 KiB