Package: primirTSS Version: 1.26.0 Command: /home/biocbuild/bbs-3.21-bioc/R/bin/R CMD INSTALL primirTSS StartedAt: 2025-10-15 15:50:08 -0400 (Wed, 15 Oct 2025) EndedAt: 2025-10-15 15:50:48 -0400 (Wed, 15 Oct 2025) EllapsedTime: 40.1 seconds RetCode: 0 Status: OK