Package: primirTSS Version: 1.26.0 Command: /home/biocbuild/bbs-3.21-bioc/R/bin/R CMD check --install=check:primirTSS.install-out.txt --library=/home/biocbuild/bbs-3.21-bioc/R/site-library --timings primirTSS_1.26.0.tar.gz StartedAt: 2025-10-16 02:21:46 -0400 (Thu, 16 Oct 2025) EndedAt: 2025-10-16 02:26:41 -0400 (Thu, 16 Oct 2025) EllapsedTime: 294.3 seconds RetCode: 0 Status: WARNINGS CheckDir: primirTSS.Rcheck Warnings: 2