Package: primirTSS Version: 1.26.0 Command: rm -rf primirTSS.buildbin-libdir && mkdir primirTSS.buildbin-libdir && /Users/biocbuild/BBS/utils/build-universal.sh primirTSS_1.26.0.tar.gz /Library/Frameworks/R.framework/Resources/bin/R primirTSS.buildbin-libdir StartedAt: 2025-10-14 14:24:40 -0400 (Tue, 14 Oct 2025) EndedAt: 2025-10-14 14:26:30 -0400 (Tue, 14 Oct 2025) EllapsedTime: 110.1 seconds RetCode: 0 Status: OK PackageFile: primirTSS_1.26.0.tgz PackageFileSize: 3.779 MiB