Package: primirTSS Version: 1.26.0 Command: /home/biocbuild/R/R/bin/R CMD INSTALL primirTSS StartedAt: 2025-10-13 21:08:51 -0000 (Mon, 13 Oct 2025) EndedAt: 2025-10-13 21:09:50 -0000 (Mon, 13 Oct 2025) EllapsedTime: 58.5 seconds RetCode: 0 Status: OK