Package: primirTSS Version: 1.26.0 Command: /Library/Frameworks/R.framework/Resources/bin/R CMD check --install=check:primirTSS.install-out.txt --library=/Library/Frameworks/R.framework/Resources/library --no-vignettes --timings primirTSS_1.26.0.tar.gz StartedAt: 2025-04-21 20:59:26 -0400 (Mon, 21 Apr 2025) EndedAt: 2025-04-21 21:01:16 -0400 (Mon, 21 Apr 2025) EllapsedTime: 110.3 seconds RetCode: 0 Status: WARNINGS CheckDir: primirTSS.Rcheck Warnings: 2