Package: pram Version: 1.24.0 Command: rm -rf pram.buildbin-libdir && mkdir pram.buildbin-libdir && /Users/biocbuild/BBS/utils/build-universal.sh pram_1.24.0.tar.gz /Library/Frameworks/R.framework/Resources/bin/R pram.buildbin-libdir StartedAt: 2025-04-21 22:46:44 -0400 (Mon, 21 Apr 2025) EndedAt: 2025-04-21 22:46:58 -0400 (Mon, 21 Apr 2025) EllapsedTime: 14.3 seconds RetCode: 0 Status: OK PackageFile: pram_1.24.0.tgz PackageFileSize: 2.496 MiB