Package: pram Version: 1.24.0 Command: /Library/Frameworks/R.framework/Resources/bin/R CMD INSTALL pram StartedAt: 2025-10-13 16:39:22 -0400 (Mon, 13 Oct 2025) EndedAt: 2025-10-13 16:39:59 -0400 (Mon, 13 Oct 2025) EllapsedTime: 37.3 seconds RetCode: 0 Status: OK