Package: pram Version: 1.24.0 Command: rm -rf pram.buildbin-libdir && mkdir pram.buildbin-libdir && /Users/biocbuild/BBS/utils/build-universal.sh pram_1.24.0.tar.gz /Library/Frameworks/R.framework/Resources/bin/R pram.buildbin-libdir StartedAt: 2025-10-15 19:50:12 -0400 (Wed, 15 Oct 2025) EndedAt: 2025-10-15 19:50:53 -0400 (Wed, 15 Oct 2025) EllapsedTime: 40.8 seconds RetCode: 0 Status: OK PackageFile: pram_1.24.0.tgz PackageFileSize: 2.495 MiB