Package: ppcseq Version: 1.16.0 Command: /Library/Frameworks/R.framework/Resources/bin/R CMD check --install=check:ppcseq.install-out.txt --library=/Library/Frameworks/R.framework/Resources/library --no-vignettes --timings ppcseq_1.16.0.tar.gz StartedAt: 2025-09-30 08:11:11 -0400 (Tue, 30 Sep 2025) EndedAt: 2025-09-30 08:14:29 -0400 (Tue, 30 Sep 2025) EllapsedTime: 197.8 seconds RetCode: 0 Status: OK CheckDir: ppcseq.Rcheck Warnings: 0