Package: ppcseq Version: 1.16.0 Command: /Library/Frameworks/R.framework/Resources/bin/R CMD INSTALL ppcseq StartedAt: 2025-10-13 15:24:42 -0400 (Mon, 13 Oct 2025) EndedAt: 2025-10-13 15:26:45 -0400 (Mon, 13 Oct 2025) EllapsedTime: 123.2 seconds RetCode: 0 Status: OK