Package: ppcseq Version: 1.16.0 Command: rm -rf ppcseq.buildbin-libdir && mkdir ppcseq.buildbin-libdir && /Users/biocbuild/BBS/utils/build-universal.sh ppcseq_1.16.0.tar.gz /Library/Frameworks/R.framework/Resources/bin/R ppcseq.buildbin-libdir StartedAt: 2025-10-15 19:49:53 -0400 (Wed, 15 Oct 2025) EndedAt: 2025-10-15 19:52:07 -0400 (Wed, 15 Oct 2025) EllapsedTime: 133.7 seconds RetCode: 0 Status: OK PackageFile: ppcseq_1.16.0.tgz PackageFileSize: 2.569 MiB