Package: pogos Version: 1.28.0 Command: rm -rf pogos.buildbin-libdir && mkdir pogos.buildbin-libdir && /Users/biocbuild/BBS/utils/build-universal.sh pogos_1.28.0.tar.gz /Library/Frameworks/R.framework/Resources/bin/R pogos.buildbin-libdir StartedAt: 2025-04-22 01:00:50 -0400 (Tue, 22 Apr 2025) EndedAt: 2025-04-22 01:01:38 -0400 (Tue, 22 Apr 2025) EllapsedTime: 48.4 seconds RetCode: 0 Status: OK PackageFile: pogos_1.28.0.tgz PackageFileSize: 1.39 MiB