Package: pogos Version: 1.28.0 Command: /home/biocbuild/R/R/bin/R CMD INSTALL pogos StartedAt: 2025-10-13 20:51:31 -0000 (Mon, 13 Oct 2025) EndedAt: 2025-10-13 20:52:18 -0000 (Mon, 13 Oct 2025) EllapsedTime: 47.3 seconds RetCode: 0 Status: OK