Package: pogos Version: 1.28.0 Command: /home/biocbuild/R/R/bin/R CMD build --keep-empty-dirs --no-resave-data pogos StartedAt: 2025-10-14 03:35:33 -0000 (Tue, 14 Oct 2025) EndedAt: 2025-10-14 03:47:09 -0000 (Tue, 14 Oct 2025) EllapsedTime: 696.2 seconds RetCode: 0 Status: OK PackageFile: pogos_1.28.0.tar.gz PackageFileSize: 2.084 MiB