Package: pogos Version: 1.28.0 Command: /Library/Frameworks/R.framework/Resources/bin/R CMD check --install=check:pogos.install-out.txt --library=/Library/Frameworks/R.framework/Resources/library --no-vignettes --timings pogos_1.28.0.tar.gz StartedAt: 2025-04-21 20:57:39 -0400 (Mon, 21 Apr 2025) EndedAt: 2025-04-21 20:59:14 -0400 (Mon, 21 Apr 2025) EllapsedTime: 95.1 seconds RetCode: 0 Status: OK CheckDir: pogos.Rcheck Warnings: 0