Package: pogos Version: 1.28.0 Command: rm -rf pogos.buildbin-libdir && mkdir pogos.buildbin-libdir && /Users/biocbuild/BBS/utils/build-universal.sh pogos_1.28.0.tar.gz /Library/Frameworks/R.framework/Resources/bin/R pogos.buildbin-libdir StartedAt: 2025-04-21 22:46:35 -0400 (Mon, 21 Apr 2025) EndedAt: 2025-04-21 22:46:50 -0400 (Mon, 21 Apr 2025) EllapsedTime: 15.3 seconds RetCode: 0 Status: OK PackageFile: pogos_1.28.0.tgz PackageFileSize: 1.391 MiB