Package: pogos Version: 1.28.0 Command: /Library/Frameworks/R.framework/Resources/bin/R CMD INSTALL pogos StartedAt: 2025-10-13 17:07:14 -0400 (Mon, 13 Oct 2025) EndedAt: 2025-10-13 17:07:54 -0400 (Mon, 13 Oct 2025) EllapsedTime: 39.5 seconds RetCode: 0 Status: OK