Package: pogos Version: 1.28.0 Command: /Library/Frameworks/R.framework/Resources/bin/R CMD check --install=check:pogos.install-out.txt --library=/Library/Frameworks/R.framework/Resources/library --no-vignettes --timings pogos_1.28.0.tar.gz StartedAt: 2025-10-15 07:50:55 -0400 (Wed, 15 Oct 2025) EndedAt: 2025-10-15 07:55:25 -0400 (Wed, 15 Oct 2025) EllapsedTime: 269.6 seconds RetCode: 0 Status: OK CheckDir: pogos.Rcheck Warnings: 0