Package: pogos Version: 1.28.0 Command: /Library/Frameworks/R.framework/Resources/bin/R CMD build --keep-empty-dirs --no-resave-data pogos StartedAt: 2025-10-14 06:42:45 -0400 (Tue, 14 Oct 2025) EndedAt: 2025-10-14 06:50:27 -0400 (Tue, 14 Oct 2025) EllapsedTime: 462.2 seconds RetCode: 0 Status: OK PackageFile: pogos_1.28.0.tar.gz PackageFileSize: 2.094 MiB