Package: poem Version: 1.0.0 Command: /Library/Frameworks/R.framework/Resources/bin/R CMD check --install=check:poem.install-out.txt --library=/Library/Frameworks/R.framework/Resources/library --no-vignettes --timings poem_1.0.0.tar.gz StartedAt: 2025-04-21 22:41:45 -0400 (Mon, 21 Apr 2025) EndedAt: 2025-04-21 22:47:35 -0400 (Mon, 21 Apr 2025) EllapsedTime: 350.0 seconds RetCode: 0 Status: WARNINGS CheckDir: poem.Rcheck Warnings: 1