Package: pmp Version: 1.20.0 Command: /home/biocbuild/bbs-3.21-bioc/R/bin/R CMD build --keep-empty-dirs --no-resave-data pmp StartedAt: 2025-10-15 19:10:39 -0400 (Wed, 15 Oct 2025) EndedAt: 2025-10-15 19:12:02 -0400 (Wed, 15 Oct 2025) EllapsedTime: 83.1 seconds RetCode: 0 Status: OK PackageFile: pmp_1.20.0.tar.gz PackageFileSize: 4.877 MiB