Package: pmm Version: 1.40.0 Command: chmod a+r pmm -R && E:\biocbuild\bbs-3.21-bioc\R\bin\R.exe CMD build --keep-empty-dirs --no-resave-data pmm StartedAt: 2025-08-14 21:21:05 -0400 (Thu, 14 Aug 2025) EndedAt: 2025-08-14 21:21:32 -0400 (Thu, 14 Aug 2025) EllapsedTime: 26.9 seconds RetCode: 0 Status: OK PackageFile: pmm_1.40.0.tar.gz PackageFileSize: 645.7 KiB